BEGIN:VCALENDAR
VERSION:2.0
PRODID:-//RC Formazione Professionale - ECPv5.3.0//NONSGML v1.0//EN
CALSCALE:GREGORIAN
METHOD:PUBLISH
X-WR-CALNAME:RC Formazione Professionale
X-ORIGINAL-URL:https://www.rcformazioneprofessionale.it
X-WR-CALDESC:Eventi per RC Formazione Professionale
BEGIN:VTIMEZONE
TZID:Europe/Rome
BEGIN:DAYLIGHT
TZOFFSETFROM:+0100
TZOFFSETTO:+0200
TZNAME:CEST
DTSTART:20260329T010000
END:DAYLIGHT
BEGIN:STANDARD
TZOFFSETFROM:+0200
TZOFFSETTO:+0100
TZNAME:CET
DTSTART:20261025T010000
END:STANDARD
END:VTIMEZONE
BEGIN:VEVENT
DTSTART;TZID=Europe/Rome:20260628T090000
DTEND;TZID=Europe/Rome:20260629T173000
DTSTAMP:20260420T173520
CREATED:20260420T114028Z
LAST-MODIFIED:20260420T114028Z
UID:1267-1782637200-1782754200@www.rcformazioneprofessionale.it
SUMMARY:Pedicure Dry
DESCRIPTION:Corso Pedicure Dry a Bergamo – 28 e 29 Giugno 2026\nCorso professionale di Pedicure Dry a Bergamo per estetiste che vogliono perfezionare una tecnica moderna\, precisa e sempre più richiesta in istituto.\n✨ Il corso Pedicure Dry a Bergamo è pensato per estetiste che desiderano acquisire o perfezionare una tecnica professionale\, moderna e ad alto valore nel lavoro quotidiano in istituto. \nLa Pedicure Dry è oggi una delle tecniche più apprezzate perché consente di lavorare in modo preciso\, igienico ed efficace\, ottimizzando i tempi senza compromettere la qualità del risultato finale. \n👉 Un metodo professionale\, strutturato e replicabile\, ideale per offrire un servizio curato e in linea con gli standard più attuali del settore estetico. \n⚠️ Numero chiuso per garantire affiancamento\, qualità e apprendimento reale. \n📲 Scrivici su WhatsApp per ricevere tutte le informazioni e riservare il tuo posto: 351.773.4488 (CLICCA QUI PER SCRIVERCI) \nDESCRIZIONE\nIl corso Pedicure Dry a Bergamo è un percorso formativo altamente pratico e professionale\, pensato per estetiste che desiderano acquisire o perfezionare una tecnica moderna\, richiesta e ad alto valore nel lavoro quotidiano in istituto. \nLa formazione è focalizzata sull’esecuzione corretta della Pedicure Dry\, un metodo che permette di lavorare in modo preciso\, igienico ed efficace\, migliorando l’organizzazione del lavoro e ottimizzando i tempi senza rinunciare alla qualità del trattamento. \nDurante il corso apprenderai un approccio strutturato\, sicuro e replicabile\, pensato per permetterti di proporre un servizio professionale e curato all’interno del tuo centro estetico. \nUna formazione concreta\, orientata al lavoro reale e immediatamente applicabile in istituto. \nA CHI SI RIVOLGE\nIl corso è rivolto a: \n✔️ Estetiste\n✔️ Professioniste del settore beauty\n✔️ Operatrici che vogliono aggiornare o perfezionare la tecnica pedicure \nIdeale per chi desidera offrire una Pedicure Dry professionale in modo sicuro\, preciso e organizzato. \nCOSA IMPARERAI\n✔️ Eseguire correttamente una Pedicure Dry professionale\n✔️ Lavorare in modo preciso e igienico nel rispetto della sicurezza\n✔️ Ottimizzare i tempi mantenendo alta la qualità del servizio\n✔️ Gestire callosità e inestetismi del piede\n✔️ Applicare un metodo di lavoro chiaro\, strutturato e replicabile\n✔️ Offrire un trattamento efficace e richiesto all’interno del proprio istituto \nSTRUTTURA DEL CORSO\n✔️ Formazione intensiva orientata a una corretta sequenza operativa\n✔️ Dimostrazioni pratiche con focus su precisione e sicurezza\n✔️ Supervisione e correzione mirata durante la pratica\n✔️ Sessione pratica su modella il secondo giorno \nUn percorso pensato per consolidare metodo\, manualità e sicurezza professionale. \nDOCENTE\nTroiano Rita Anna\nDirettrice e formatrice di RC Formazione Professionale. Con oltre 20 anni di esperienza nel settore estetico\, accompagna le allieve con un approccio formativo chiaro\, pratico e orientato alla qualità del servizio. \nINFO CORSO\n📅 Data: 28 e 29 Giugno 2026\n🕘 Orario: 9:00 – 17:30\n📍 Sede: Bonate Sopra (Bergamo) \n💰 Quota: €600\n💳 Acconto: €100 \nKIT INCLUSO\n✔️ Punte fresa (5)\n✔️ Pennello\n✔️ Gel Podologico\n✔️ Dead Skin 250 ml\n✔️ Pedicure Cream 250 ml\n✔️ Callous Remover 500 ml \nUn kit professionale pensato per permetterti di lavorare con il giusto metodo fin da subito. \nATTESTATO\n🎓 Attestato di partecipazione \nISCRIZIONE\nPer partecipare al corso compila il modulo e assicurati il tuo posto in aula (CLICCA QUI PER ISCRIVERTI). \n\n✨ Vuoi inserire una tecnica moderna\, precisa e altamente professionale nel tuo istituto? \nIl corso Pedicure Dry è pensato per aiutarti a migliorare il servizio\, ottimizzare i tempi di lavoro e offrire un trattamento richiesto e curato. \n⚠️ Numero chiuso. \n📲 Scrivici su WhatsApp per ricevere tutte le informazioni e riservare il tuo posto: 351.773.4488 (CLICCA QUI PER SCRIVERCI) \n💬 Scrivi: INFO PEDICURE DRY \n\nFAQ – DOMANDE FREQUENTI\nIl corso è adatto anche a chi vuole perfezionarsi?\nSì\, il corso è pensato sia per estetiste che vogliono apprendere la tecnica sia per professioniste che desiderano perfezionarla. \nÈ un corso pratico?\nSì\, la formazione è altamente pratica e include una sessione su modella il secondo giorno. \nIl kit è incluso?\nSì\, il kit professionale è incluso nel prezzo del corso. \nRiceverò un attestato?\nSì\, al termine del corso verrà rilasciato un attestato di partecipazione. \nPosso applicare subito la tecnica in istituto?\nSì\, il corso è strutturato per permetterti di inserire la Pedicure Dry nel tuo lavoro in modo concreto e professionale. \n  \nTAG: corso pedicure dry bergamo\, corso pedicure professionale bergamo\, pedicure dry corso estetiste\, corso pedicure estetica bergamo\, formazione pedicure dry lombardia\, corso pedicure professionale per estetiste\, corso pedicure dry bonate sopra
URL:https://www.rcformazioneprofessionale.it/corso/corso-pedicure-dry-bergamo/
LOCATION:RC Formazione Professionale\, Via Milano 2/C\, Bonate Sopra\, 24040\, Italia
CATEGORIES:Corsi Brevi
ATTACH;FMTTYPE=image/jpeg:https://www.rcformazioneprofessionale.it/wp-content/uploads/2023/12/INV24-RPL.jpg
END:VEVENT
END:VCALENDAR