BEGIN:VCALENDAR
VERSION:2.0
PRODID:-//RC Formazione Professionale - ECPv5.3.0//NONSGML v1.0//EN
CALSCALE:GREGORIAN
METHOD:PUBLISH
X-WR-CALNAME:RC Formazione Professionale
X-ORIGINAL-URL:https://www.rcformazioneprofessionale.it
X-WR-CALDESC:Eventi per RC Formazione Professionale
BEGIN:VTIMEZONE
TZID:Europe/Rome
BEGIN:DAYLIGHT
TZOFFSETFROM:+0100
TZOFFSETTO:+0200
TZNAME:CEST
DTSTART:20260329T010000
END:DAYLIGHT
BEGIN:STANDARD
TZOFFSETFROM:+0200
TZOFFSETTO:+0100
TZNAME:CET
DTSTART:20261025T010000
END:STANDARD
BEGIN:DAYLIGHT
TZOFFSETFROM:+0100
TZOFFSETTO:+0200
TZNAME:CEST
DTSTART:20270328T010000
END:DAYLIGHT
BEGIN:STANDARD
TZOFFSETFROM:+0200
TZOFFSETTO:+0100
TZNAME:CET
DTSTART:20271031T010000
END:STANDARD
BEGIN:DAYLIGHT
TZOFFSETFROM:+0100
TZOFFSETTO:+0200
TZNAME:CEST
DTSTART:20280326T010000
END:DAYLIGHT
BEGIN:STANDARD
TZOFFSETFROM:+0200
TZOFFSETTO:+0100
TZNAME:CET
DTSTART:20281029T010000
END:STANDARD
END:VTIMEZONE
BEGIN:VEVENT
DTSTART;TZID=Europe/Rome:20260914T090000
DTEND;TZID=Europe/Rome:20280427T170000
DTSTAMP:20260419T113438
CREATED:20201117T140642Z
LAST-MODIFIED:20260418T134132Z
UID:364-1789376400-1840467600@www.rcformazioneprofessionale.it
SUMMARY:Scuola di Estetica - Biennio Regionale
DESCRIPTION:​Sei appassionato di bellezza e desideri trasformare questa passione in una carriera professionale? La nostra Scuola di Estetica per maggiorenni offre un percorso formativo completo e riconosciuto\, progettato per prepararti al meglio nel settore dell’estetica. \nOttieni la Qualifica di Estetista in 20 Mesi\nIl nostro corso biennale accelerato\, con inizio a settembre o a marzo\, ti permette di conseguire la Qualifica Regionale di Estetista in soli 20 mesi. Questo titolo\, riconosciuto in tutta Italia e nella maggior parte dei paesi dell’Unione Europea\, ti abilita a lavorare presso centri estetici e benessere. Per coloro che aspirano ad avviare una propria attività\, è previsto un successivo corso di specializzazione.​ \nProgramma Didattico Completo e Aggiornato\nIl nostro curriculum combina teoria e pratica per fornirti una formazione equilibrata:​ \n\n\nTeoria: Anatomia\, fisiologia\, dermatologia\, chimica\, cosmetologia\, igiene\, tecnica commerciale\, diritto\, sicurezza\, primo soccorso\, psicologia\, comunicazione\, inglese e teoria professionale (estetologia\, trucco\, pedicure\, manicure\, massaggio).​ \n\n\nPratica: Trattamenti viso e corpo\, trucco correttivo\, massaggi estetici (svedese\, anti-stress\, ayurveda)\, epilazione e depilazione (cera a caldo/freddo\, filo arabo\, brasiliana)\, manicure e pedicure estetici\, ricostruzione unghie (gel\, poligel\, acrilico)\, laminazione\, extension ciglia e molto altro ancora.​ \n\n\nFrequenza e Struttura del Corso\nIl corso prevede due annualità da 900 ore ciascuna\, suddivise in 540 ore di lezione in aula e 360 ore di stage formativo. Le lezioni si tengono in presenza 2 giorni a settimana\, dalle 9:00 alle 17:30. La frequenza è obbligatoria; assenze superiori al 25% del monte ore annuo impediscono il passaggio all’anno successivo.​ \nCosti e Modalità di Pagamento Flessibili\n\n\nPrezzo annuo del corso: €3.500\,00 IVA inclusa.​ \n\n\nQuota di iscrizione: €250\,00 IVA inclusa.​ \n\n\nSaldo rateizzabile: €3.250\,00 IVA inclusa.​ \n\n\n\n\nOffriamo una rateizzazione interna personalizzabile\, a interesse zero\, per venire incontro alle tue esigenze finanziarie. Contattaci per maggiori dettagli.​ \nTutto Incluso nel Prezzo\nIl costo del corso comprende:​ \n\n\nCorredo didattico completo (borsone iniziale\, materiali\, strumenti e prodotti forniti dall’ente).​ \n\n\nTasse d’esame. \n\n\nAssicurazione.​ \n\n\nDivisa ufficiale.​ \n\n\nPerché Scegliere la Nostra Scuola di Estetica\n\n\nFormazione Avanzata: Accedi ai trattamenti estetici più recenti e alle tecniche più richieste nel settore.​ \n\n\nRiconoscimento Internazionale: La nostra qualifica è valida in tutta Italia e nella maggior parte dei paesi dell’Unione Europea\, ampliando le tue opportunità lavorative.​ \n\n\nAmbiente Sicuro e Accogliente: La tua sicurezza e il tuo benessere sono la nostra priorità; garantiamo un ambiente di apprendimento stimolante e protetto.​ \n\n\nInizia il Tuo Percorso Professionale nell’Estetica\, iscriviti alla nostra Scuola di Estetica\nNon perdere l’opportunità di trasformare la tua passione in una carriera di successo. Iscriviti oggi stesso per assicurarti un posto nella prossima classe a settembre. Il tuo futuro nel mondo dell’estetica inizia qui\, con noi. \nContattaci per maggiori informazioni anche tramite WhatsApp al 351.773.4488
URL:https://www.rcformazioneprofessionale.it/corso/scuola-di-estetica-maggiorenni/
LOCATION:RC Formazione Professionale\, Via Milano 2/C\, Bonate Sopra\, 24040\, Italia
CATEGORIES:Percorsi Regionali
ATTACH;FMTTYPE=image/jpeg:https://www.rcformazioneprofessionale.it/wp-content/uploads/2020/11/Progetto-senza-titolo.jpg
END:VEVENT
END:VCALENDAR